BEGIN:VCALENDAR
VERSION:2.0
PRODID:www.loewshotels.com
X-WR-CALNAME:Calendar Of Events
X-WR-CALDESC:Lists the events
X-WR-TIMEZONE:America/New_York
BEGIN:VTIMEZONE
TZID:America/New_York
X-LIC-LOCATION:America/New_York
END:VTIMEZONE
BEGIN:VEVENT
UID:69e9f98816a0f
DTSTART;VALUE=DATE:20230101
SEQUENCE:0
TRANSP:OPAQUE
URL:https://www.loewshotels.com/miami-beach/event-calendar/game-master
SUMMARY:Game Master
CLASS:PUBLIC
DESCRIPTION:Game Master\n\nSpend your afternoons in the sunshine\, enjoying
  activities with our Game Master on the Main Pool Deck.
RRULE:FREQ=WEEKLY;INTERVAL=1;BYDAY=FR,SA,SU
X-MICROSOFT-CDO-ALLDAYEVENT:TRUE
CATEGORIES:SoBe Kids Club,Hotel Events,Loews Loves Families,Poolside Activi
 ties,Family Fun
DTSTAMP:20260423T105048Z
END:VEVENT
BEGIN:VEVENT
UID:69e9f988175a4
DTSTART;VALUE=DATE:20230106
SEQUENCE:0
TRANSP:OPAQUE
URL:https://www.loewshotels.com/miami-beach/event-calendar/sobe-kids-club-2
 023
SUMMARY:SOBE Kids Club
CLASS:PUBLIC
DESCRIPTION:SOBE Kids Club\n\nWith a larger-than-life indoor lifeguard hut\
 , areas for crafts\, TV time\, memorable moments and adventures await your
  little traveler.
RRULE:FREQ=DAILY;INTERVAL=1
EXDATE;VALUE=DATE:20230326
X-MICROSOFT-CDO-ALLDAYEVENT:TRUE
CATEGORIES:SoBe Kids Club,Loews Loves Families
DTSTAMP:20260423T105048Z
END:VEVENT
BEGIN:VEVENT
UID:69e9f98817c96
DTSTART;VALUE=DATE:20240101
SEQUENCE:0
TRANSP:OPAQUE
URL:https://www.loewshotels.com/miami-beach/event-calendar/banana-boat-ride
 s-on-the-beach
SUMMARY:Banana Boat Rides on the Beach
CLASS:PUBLIC
DESCRIPTION:Banana Boat Rides on the Beach\n\nEnjoy Banana Boat rides daily
RRULE:FREQ=DAILY;INTERVAL=1
X-MICROSOFT-CDO-ALLDAYEVENT:TRUE
CATEGORIES:Hotel Events,Family Fun
DTSTAMP:20260423T105048Z
END:VEVENT
BEGIN:VEVENT
UID:69e9f98818431
DTSTART;VALUE=DATE:20240101
SEQUENCE:0
TRANSP:OPAQUE
URL:https://www.loewshotels.com/miami-beach/event-calendar/happy-hour-at-bi
 stro-collins
SUMMARY:Happy Hour at Bistro Collins
CLASS:PUBLIC
DESCRIPTION:Happy Hour at Bistro Collins\n\nHappy Hour at Bistro Collins
RRULE:FREQ=DAILY;INTERVAL=1
X-MICROSOFT-CDO-ALLDAYEVENT:TRUE
CATEGORIES:Hotel Events,Sips & Bites,Happy Hour
DTSTAMP:20260423T105048Z
END:VEVENT
BEGIN:VEVENT
UID:69e9f98818b26
DTSTART;VALUE=DATE:20250103
SEQUENCE:0
TRANSP:OPAQUE
URL:https://www.loewshotels.com/miami-beach/event-calendar/movies-under-the
 -stars
SUMMARY:Movies Under the Stars
CLASS:PUBLIC
DESCRIPTION:Movies Under the Stars\n\nEnjoy a movie screening under the sta
 rs on Americana Lawn with complimentary popcorn.
RRULE:FREQ=WEEKLY;INTERVAL=1;BYDAY=FR
X-MICROSOFT-CDO-ALLDAYEVENT:TRUE
CATEGORIES:SoBe Kids Club,Hotel Events,Loews Loves Families,Movies,Family F
 un
DTSTAMP:20260423T105048Z
END:VEVENT
BEGIN:VEVENT
UID:69e9f98819400
DTSTART;VALUE=DATE:20251128
SEQUENCE:0
TRANSP:OPAQUE
URL:https://www.loewshotels.com/miami-beach/event-calendar/smores
SUMMARY:Make Your Own S’mores
CLASS:PUBLIC
DESCRIPTION:Make Your Own S’mores\n\nMake your own gooey\, tasty S'mores 
 treats
RRULE:FREQ=WEEKLY;INTERVAL=1;BYDAY=FR,SA,SU
X-MICROSOFT-CDO-ALLDAYEVENT:TRUE
CATEGORIES:SoBe Kids Club,Hotel Events,Loews Loves Families,Sips & Bites,Fa
 mily Fun
DTSTAMP:20260423T105048Z
END:VEVENT
BEGIN:VEVENT
UID:69e9f98819b47
DTSTART;VALUE=DATE:20260402
SEQUENCE:0
TRANSP:OPAQUE
URL:https://www.loewshotels.com/miami-beach/event-calendar/weekend-memories
SUMMARY:Easter Weekend Memories
CLASS:PUBLIC
DESCRIPTION:Easter Weekend Memories\n\nCapture the memories of your South B
 each stay with a professional photo shoot.
RRULE:FREQ=DAILY;INTERVAL=1;UNTIL=20260405T000000Z
X-MICROSOFT-CDO-ALLDAYEVENT:TRUE
CATEGORIES:Hotel Events,Seasonal Events,Partners,Loews Loves Families,Photo
 graphy
DTSTAMP:20260423T105048Z
END:VEVENT
BEGIN:VEVENT
UID:69e9f9881a3f5
DTSTART;VALUE=DATE:20260402
SEQUENCE:0
TRANSP:OPAQUE
URL:https://www.loewshotels.com/miami-beach/event-calendar/sobe-kids-club-p
 oolside-sun-and-fun
SUMMARY:SoBe Kids Club Poolside Sun and Fun
CLASS:PUBLIC
DESCRIPTION:SoBe Kids Club Poolside Sun and Fun\n\nSpend your afternoon in 
 the sunshine\, enjoying family-friendly activities
RRULE:FREQ=DAILY;INTERVAL=1;UNTIL=20260405T000000Z
X-MICROSOFT-CDO-ALLDAYEVENT:TRUE
CATEGORIES:SoBe Kids Club,Hotel Events,Loews Loves Families,Spring Families
 ,Family Fun
DTSTAMP:20260423T105048Z
END:VEVENT
BEGIN:VEVENT
UID:69e9f9881abd4
DTSTART;VALUE=DATE:20260402
SEQUENCE:0
TRANSP:OPAQUE
URL:https://www.loewshotels.com/miami-beach/event-calendar/full-moon-dining
 -experience
SUMMARY:Moonrise: A Full Moon Dinner Experience
CLASS:PUBLIC
DESCRIPTION:Moonrise: A Full Moon Dinner Experience\n\nWatch the Pink Moon 
 rise and enjoy a multi-course dinner inspired by the April full moon.
RRULE:FREQ=DAILY;INTERVAL=1;UNTIL=20260402T000000Z
X-MICROSOFT-CDO-ALLDAYEVENT:TRUE
CATEGORIES:Hotel Events,Sips & Bites,Family Fun,Full Moon Dinners
DTSTAMP:20260423T105048Z
END:VEVENT
BEGIN:VEVENT
UID:69e9f9881b300
DTSTART;VALUE=DATE:20260402
SEQUENCE:0
TRANSP:OPAQUE
URL:https://www.loewshotels.com/miami-beach/event-calendar/easter-cooking-c
 lasses
SUMMARY:SoBe Kids Club Cooking Classes – Easter Edition
CLASS:PUBLIC
DESCRIPTION:SoBe Kids Club Cooking Classes – Easter Edition\n\nKids can u
 nleash their inner foodie during our Halloween themed cooking classes.
RRULE:FREQ=DAILY;INTERVAL=1;UNTIL=20260405T000000Z
X-MICROSOFT-CDO-ALLDAYEVENT:TRUE
CATEGORIES:SoBe Kids Club,Hotel Events,Seasonal Events,Loews Loves Families
 ,Holiday Classes,Spring Families,Family Fun
DTSTAMP:20260423T105048Z
END:VEVENT
BEGIN:VEVENT
UID:69e9f9881bb48
DTSTART;VALUE=DATE:20260403
SEQUENCE:0
TRANSP:OPAQUE
URL:https://www.loewshotels.com/miami-beach/event-calendar/play-zone-and-mo
 vie-room
SUMMARY:Easter Play Zone & Movie Room
CLASS:PUBLIC
DESCRIPTION:Easter Play Zone & Movie Room\n\nPlay interactive games in our 
 pop-up playzone
RRULE:FREQ=DAILY;INTERVAL=1;UNTIL=20260405T000000Z
X-MICROSOFT-CDO-ALLDAYEVENT:TRUE
CATEGORIES:SoBe Kids Club,Hotel Events,Seasonal Events,Loews Loves Families
 ,Family Fun
DTSTAMP:20260423T105048Z
END:VEVENT
BEGIN:VEVENT
UID:69e9f9881c26e
DTSTART;VALUE=DATE:20260403
SEQUENCE:0
TRANSP:OPAQUE
URL:https://www.loewshotels.com/miami-beach/event-calendar/easter-poolside-
 food-stand-pop-up
SUMMARY:Easter Poolside Food Stand Pop-Up
CLASS:PUBLIC
DESCRIPTION:Easter Poolside Food Stand Pop-Up\n\nVisit our pop-up food stan
 d and grab made-to-order hot dogs\, burgers\, and pizzas.
RRULE:FREQ=WEEKLY;INTERVAL=1;UNTIL=20260405T000000Z;BYDAY=FR,SA,SU
X-MICROSOFT-CDO-ALLDAYEVENT:TRUE
CATEGORIES:Hotel Events,Holiday Sips and Bites,Poolside Activities,Spring F
 amilies,Sips & Bites,Family Fun,Holiday Dining
DTSTAMP:20260423T105048Z
END:VEVENT
BEGIN:VEVENT
UID:69e9f9881c905
DTSTART;VALUE=DATE:20260403
SEQUENCE:0
TRANSP:OPAQUE
URL:https://www.loewshotels.com/miami-beach/event-calendar/easter-cookie-ki
 t
SUMMARY:Easter Cookie Decorating Kit
CLASS:PUBLIC
DESCRIPTION:Easter Cookie Decorating Kit\n\nGet festive with our holiday th
 emed cookie decorating kit.
RRULE:FREQ=DAILY;INTERVAL=1;UNTIL=20260406T000000Z
X-MICROSOFT-CDO-ALLDAYEVENT:TRUE
CATEGORIES:SoBe Kids Club,Loews Loves Families,Family Fun,Holiday Dining
DTSTAMP:20260423T105048Z
END:VEVENT
BEGIN:VEVENT
UID:69e9f9881d0ca
DTSTART;VALUE=DATE:20260404
SEQUENCE:0
TRANSP:OPAQUE
URL:https://www.loewshotels.com/miami-beach/event-calendar/neon-night
SUMMARY:Neon Nights at #LoewsMiami
CLASS:PUBLIC
DESCRIPTION:Neon Nights at #LoewsMiami\n\nDance surrounded by neon lights a
 t our fun-for-the-whole-family neon event.
RRULE:FREQ=DAILY;INTERVAL=1;UNTIL=20260404T000000Z
X-MICROSOFT-CDO-ALLDAYEVENT:TRUE
CATEGORIES:SoBe Kids Club,Hotel Events,Partners,Holiday Sips and Bites,Loew
 s Loves Families,Spring Fest,Spring Families,Museum Activations,Family Fun
DTSTAMP:20260423T105048Z
END:VEVENT
BEGIN:VEVENT
UID:69e9f9881d798
DTSTART;VALUE=DATE:20260404
SEQUENCE:0
TRANSP:OPAQUE
URL:https://www.loewshotels.com/miami-beach/event-calendar/bunny-burrow-sca
 venger-hunt
SUMMARY:Bunny Burrow Scavenger Hunt
CLASS:PUBLIC
DESCRIPTION:Bunny Burrow Scavenger Hunt\n\nFind the hidden bunnies around t
 he hotel and win a prize from Miami Joe Coffee Co.
RRULE:FREQ=DAILY;INTERVAL=1;UNTIL=20260405T000000Z
X-MICROSOFT-CDO-ALLDAYEVENT:TRUE
CATEGORIES:Hotel Events,Seasonal Events,Loews Loves Families,Family Fun
DTSTAMP:20260423T105048Z
END:VEVENT
BEGIN:VEVENT
UID:69e9f9881dd72
DTSTART;VALUE=DATE:20260405
SEQUENCE:0
TRANSP:OPAQUE
URL:https://www.loewshotels.com/miami-beach/event-calendar/easter-egg-hunt
SUMMARY:Easter Egg Hunt & Easter Bunny Visit
CLASS:PUBLIC
DESCRIPTION:Easter Egg Hunt & Easter Bunny Visit\n\nMeet us by the pool on 
 Easter Sunday for an EGGcellent hunt. Win a prize if you find one of six g
 olden eggs.
RRULE:FREQ=DAILY;INTERVAL=1;UNTIL=20260405T000000Z
X-MICROSOFT-CDO-ALLDAYEVENT:TRUE
CATEGORIES:Hotel Events,Seasonal Events,Loews Loves Families
DTSTAMP:20260423T105048Z
END:VEVENT
BEGIN:VEVENT
UID:69e9f9881e3f3
DTSTART;VALUE=DATE:20260405
SEQUENCE:0
TRANSP:OPAQUE
URL:https://www.loewshotels.com/miami-beach/event-calendar/easter-brunch-at
 -bistro-collins
SUMMARY:Easter Brunch at Bistro Collins
CLASS:PUBLIC
DESCRIPTION:Easter Brunch at Bistro Collins\n\nGather together at Bistro Co
 llins for Easter Sunday Brunch.
RRULE:FREQ=DAILY;INTERVAL=1;UNTIL=20260405T000000Z
X-MICROSOFT-CDO-ALLDAYEVENT:TRUE
CATEGORIES:Hotel Events,Seasonal Events,Loews Loves Families,Spring Fest,Sp
 ring Families,Holiday Dining
DTSTAMP:20260423T105048Z
END:VEVENT
BEGIN:VEVENT
UID:69e9f9881e9a9
DTSTART;VALUE=DATE:20260428
SEQUENCE:0
TRANSP:OPAQUE
URL:https://www.loewshotels.com/miami-beach/event-calendar/f1-retail-pop-up
 -shop
SUMMARY:F1 Retail Pop-Up Shop
CLASS:PUBLIC
DESCRIPTION:F1 Retail Pop-Up Shop\n\nShop official F1 gear at this exclusiv
 e retail shop.
RRULE:FREQ=DAILY;INTERVAL=1;UNTIL=20260505T000000Z
X-MICROSOFT-CDO-ALLDAYEVENT:TRUE
CATEGORIES:Hotel Events
DTSTAMP:20260423T105048Z
END:VEVENT
BEGIN:VEVENT
UID:69e9f9881ef74
DTSTART;VALUE=DATE:20260430
SEQUENCE:0
TRANSP:OPAQUE
URL:https://www.loewshotels.com/miami-beach/event-calendar/f1-steaks-caviar
SUMMARY:Steaks and Caviar- F1 dinner
CLASS:PUBLIC
DESCRIPTION:Steaks and Caviar- F1 dinner\n\nA high-performance take on the 
 steakhouse\, elevated with Golden Goat Caviar
RRULE:FREQ=DAILY;INTERVAL=1;UNTIL=20260503T000000Z
X-MICROSOFT-CDO-ALLDAYEVENT:TRUE
CATEGORIES:Hotel Events,Sips & Bites
DTSTAMP:20260423T105048Z
END:VEVENT
BEGIN:VEVENT
UID:69e9f9881f532
DTSTART;VALUE=DATE:20260505
SEQUENCE:0
TRANSP:OPAQUE
URL:https://www.loewshotels.com/miami-beach/event-calendar/cinco-de-mayo-bi
 stro-collins
SUMMARY:Cinco de Mayo - Bistro Collins
CLASS:PUBLIC
DESCRIPTION:Cinco de Mayo - Bistro Collins\n\nEnjoy tasty specialty tacos a
 t the bar all day.
RRULE:FREQ=DAILY;INTERVAL=1;UNTIL=20260505T000000Z
X-MICROSOFT-CDO-ALLDAYEVENT:TRUE
CATEGORIES:Hotel Events,Sips & Bites
DTSTAMP:20260423T105048Z
END:VEVENT
BEGIN:VEVENT
UID:69e9f9881faeb
DTSTART;VALUE=DATE:20260508
SEQUENCE:0
TRANSP:OPAQUE
URL:https://www.loewshotels.com/miami-beach/event-calendar/miami-memories-w
 ith-mom
SUMMARY:Miami Memories with Mom
CLASS:PUBLIC
DESCRIPTION:Miami Memories with Mom\n\nCapture Mother’s Day memories with
  a professional photo shoot. Book your complimentary session.
RRULE:FREQ=DAILY;INTERVAL=1;UNTIL=20260510T000000Z
X-MICROSOFT-CDO-ALLDAYEVENT:TRUE
CATEGORIES:Hotel Events,Seasonal Events,Partners,Loews Loves Families
DTSTAMP:20260423T105048Z
END:VEVENT
BEGIN:VEVENT
UID:69e9f9882011b
DTSTART;VALUE=DATE:20260508
SEQUENCE:0
TRANSP:OPAQUE
URL:https://www.loewshotels.com/miami-beach/event-calendar/beads-with-b-pop
 -up-jewelry-shop
SUMMARY:Beads with B – Pop Up Jewelry Shop
CLASS:PUBLIC
DESCRIPTION:Beads with B – Pop Up Jewelry Shop\n\nBeads with B brings her
  custom jewelry boutique to #LoewsMiami this holiday weekend.
RRULE:FREQ=WEEKLY;INTERVAL=1;UNTIL=20260510T000000Z;BYDAY=FR,SA,SU
X-MICROSOFT-CDO-ALLDAYEVENT:TRUE
CATEGORIES:Hotel Events,Loews Loves Families,Poolside Activities,Family Fun
DTSTAMP:20260423T105048Z
END:VEVENT
BEGIN:VEVENT
UID:69e9f9882071f
DTSTART;VALUE=DATE:20260510
SEQUENCE:0
TRANSP:OPAQUE
URL:https://www.loewshotels.com/miami-beach/event-calendar/mothers-day-brun
 ch-at-bistro-collins
SUMMARY:Bistro Collins Mother’s Day Brunch
CLASS:PUBLIC
DESCRIPTION:Bistro Collins Mother’s Day Brunch\n\nEnjoy Mother’s Day at
  Bistro Collins with live entertainment and an elegant buffet\, in additio
 n to a la carte menu items.
RRULE:FREQ=DAILY;INTERVAL=1;UNTIL=20260510T000000Z
X-MICROSOFT-CDO-ALLDAYEVENT:TRUE
CATEGORIES:Hotel Events,Loews Loves Families,Family Fun
DTSTAMP:20260423T105048Z
END:VEVENT
END:VCALENDAR